BEGIN:VCALENDAR
PRODID:-//Microsoft Corporation//Outlook 12.0 MIMEDIR//EN
VERSION:2.0
CALSCALE:GREGORIAN
BEGIN:VEVENT
UID: 4f8a6631-0026-467a-ba59-1c1127f42890
SUMMARY:S-Stuudio tantsulaager
DTSTAMP:20260816T000000
DTSTART:20260816T000000
DTEND:20260818T235900
LOCATION:Viljandi Huvikool
DESCRIPTION: <p><strong>Link: </strong>https://huvikool.ee/et/sundmuste-kalender/s-stuudio-tantsulaager</p><p><strong>Hind: </strong></p>
STATUS:CONFIRMED
SEQUENCE:3
X-ALT-DESC;FMTTYPE=text/html:<p><strong>Link: </strong>https://huvikool.ee/et/sundmuste-kalender/s-stuudio-tantsulaager</p><p><strong>Hind: </strong></p>
X-MICROSOFT-CDO-BUSYSTATUS:OOF
X-MICROSOFT-CDO-IMPORTANCE:1
X-MICROSOFT-DISALLOW-COUNTER:FALSE
X-MS-OLK-ALLOWEXTERNCHECK:TRUE
X-MS-OLK-CONFTYPE:0
X-MICROSOFT-CDO-ALLDAYEVENT:
X-MICROSOFT-MSNCALENDAR-ALLDAYEVENT:
END:VEVENT
END:VCALENDAR